BEGIN:VCALENDAR
VERSION:2.0
PRODID:-//217.160.168.100//NONSGML kigkonsult.se iCalcreator 2.20//
CALSCALE:GREGORIAN
METHOD:PUBLISH
X-WR-TIMEZONE:UTC
BEGIN:VEVENT
UID:event1@Joomla5 test
DTSTAMP:20260419T143251Z
CATEGORIES:Bestätigt
DESCRIPTION:Schlachtfest\nKategorie: Bestätigt\nICS-Link: https://j5.lowweb
 .net/index.php?option=com_jem&view=event&id=1:schlachtfest\n
DTSTART:20240405T173000Z
DTEND:20240405T173000Z
LOCATION:Zur Sängerklause\,Hauptstraße 14\,66957 Eppenbrunn
SUMMARY:Schlachtfest
URL:https://j5.lowweb.net/index.php?option=com_jem&view=event&id=1:schlacht
 fest
END:VEVENT
END:VCALENDAR